Workbook

Sheet Synthèse globale
A2: Année de mise en service
A4: Typologie | B4: Nombre de logements | C4: Superficie moyenne | D4: Total coût réel prestations / mois | E4: Total prestations facturées / mois
A5: T1 | D5: ='T1'!D34 -> 0 | E5: ='T1'!D35 -> 0
A6: T1' | D6: ='T1 prime'!D34 -> 0 | E6: ='T1 prime'!D35 -> 0
A7: T1 bis | D7: ='T1 bis'!D34 -> 0 | E7: ='T1 bis'!D35 -> 0
A8: Autres typologies | D8: ='Autres typologies'!D34 -> 0 | E8: ='Autres typologies'!D35 -> 0
A9: Total / moyenne* | B9: =SUBTOTAL(109,Tableau3[Nombre de logements]) -> 0 | C9: =IFERROR(SUMPRODUCT(B5:B8,C5:C8)/SUM(B5:B8),"") | D9: =IFERROR(SUMPRODUCT(B5:B8,D5:D8)/SUM(B5:B8),0) -> 0 | E9: =IFERROR(SUMPRODUCT(B5:B8,E5:E8)/SUM(B5:B8),0) -> 0
A10: *pondérée en fonction du nb de logements par typologie
A12: Les données à remplir

Sheet T1
B2: T1 - SYNTHESE DES PRESTATIONS (PAR LOGEMENT)
A4: Mobilier, équipements et fournitures | J4: Les données à remplir
A5: Type de prestation | B5: Coût TTC | C5: Durée d'amortissement (nombre de mois) | D5: Coût mensuel TTC sur la durée d'amortissement | E5: Montant facturé | F5: Obligatoire ou Facultatif | G5: Observations
D6: =IFERROR(B6/C6,0) -> 0
D7: =IFERROR(B7/C7,0) -> 0
D8: =IFERROR(B8/C8,0) -> 0
D9: =IFERROR(B9/C9,0) -> 0
D10: =IFERROR(B10/C10,0) -> 0
D11: =IFERROR(B11/C11,0) -> 0
D12: =IFERROR(B12/C12,0) -> 0
D13: =IFERROR(B13/C13,0) -> 0
D14: =IFERROR(B14/C14,0) -> 0
D15: =IFERROR(B15/C15,0) -> 0
A16: TOTAL | B16: =SUM(B6:B15) -> 0 | D16: =SUM(D6:D15) -> 0 | E16: =SUM(E6:E15) -> 0
A18: Autres prestations
A19: Type de prestation | B19: Coût TTC mensuel | C19: Montant facturé | D19: Périodicité | E19: Obligatoire ou Facultatif | F19: Observations
A31: Total prestations | B31: =SUM(B20:B30) -> 0 | C31: =SUM(C20:C30) -> 0
A33: SYNTHESE | B33: Total mobilier, équipement et fourniture | C33: Total autres prestations | D33: Total
A34: Coût réel / mois | B34: =D16 -> 0 | C34: =B31 -> 0 | D34: =B34+C34 -> 0
A35: Montant facturé / mois | B35: =E16 -> 0 | C35: =C31 -> 0 | D35: =B35+C35 -> 0

Sheet T1 prime
B2: T1' - SYNTHESE DES PRESTATIONS (PAR LOGEMENT)
A4: Mobilier, équipements et fournitures | J4: Les données à remplir
A5: Type de prestation | B5: Coût TTC | C5: Durée d'amortissement (nombre de mois) | D5: Coût mensuel TTC sur la durée d'amortissement | E5: Montant facturé | F5: Obligatoire ou Facultatif | G5: Observations
D6: =IFERROR(B6/C6,0) -> 0
D7: =IFERROR(B7/C7,0) -> 0
D8: =IFERROR(B8/C8,0) -> 0
D9: =IFERROR(B9/C9,0) -> 0
D10: =IFERROR(B10/C10,0) -> 0
D11: =IFERROR(B11/C11,0) -> 0
D12: =IFERROR(B12/C12,0) -> 0
D13: =IFERROR(B13/C13,0) -> 0
D14: =IFERROR(B14/C14,0) -> 0
D15: =IFERROR(B15/C15,0) -> 0
A16: TOTAL | B16: =SUM(B6:B15) -> 0 | D16: =SUM(D6:D15) -> 0 | E16: =SUM(E6:E15) -> 0
A18: Autres prestations
A19: Type de prestation | B19: Coût TTC mensuel | C19: Montant facturé | D19: Périodicité | E19: Obligatoire ou Facultatif | F19: Observations
A31: Total prestations | B31: =SUM(B20:B30) -> 0 | C31: =SUM(C20:C30) -> 0
A33: SYNTHESE | B33: Total mobilier, équipement et fourniture | C33: Total autres prestations | D33: Total
A34: Coût réel / mois | B34: =D16 -> 0 | C34: =B31 -> 0 | D34: =B34+C34 -> 0
A35: Montant facturé / mois | B35: =E16 -> 0 | C35: =C31 -> 0 | D35: =B35+C35 -> 0

Sheet T1 bis
B2: T1 bis - SYNTHESE DES PRESTATIONS (PAR LOGEMENT)
A4: Mobilier, équipements et fournitures | J4: Les données à remplir
A5: Type de prestation | B5: Coût TTC | C5: Durée d'amortissement (nombre de mois) | D5: Coût mensuel TTC sur la durée d'amortissement | E5: Montant facturé | F5: Obligatoire ou Facultatif | G5: Observations
D6: =IFERROR(B6/C6,0) -> 0
D7: =IFERROR(B7/C7,0) -> 0
D8: =IFERROR(B8/C8,0) -> 0
D9: =IFERROR(B9/C9,0) -> 0
D10: =IFERROR(B10/C10,0) -> 0
D11: =IFERROR(B11/C11,0) -> 0
D12: =IFERROR(B12/C12,0) -> 0
D13: =IFERROR(B13/C13,0) -> 0
D14: =IFERROR(B14/C14,0) -> 0
D15: =IFERROR(B15/C15,0) -> 0
A16: TOTAL | B16: =SUM(B6:B15) -> 0 | D16: =SUM(D6:D15) -> 0 | E16: =SUM(E6:E15) -> 0
A18: Autres prestations
A19: Type de prestation | B19: Coût TTC mensuel | C19: Montant facturé | D19: Périodicité | E19: Obligatoire ou Facultatif | F19: Observations
A31: Total prestations | B31: =SUM(B20:B30) -> 0 | C31: =SUM(C20:C30) -> 0
A33: SYNTHESE | B33: Total mobilier, équipement et fourniture | C33: Total autres prestations | D33: Total
A34: Coût réel / mois | B34: =D16 -> 0 | C34: =B31 -> 0 | D34: =B34+C34 -> 0
A35: Montant facturé / mois | B35: =E16 -> 0 | C35: =C31 -> 0 | D35: =B35+C35 -> 0

Sheet Autres typologies
B2: Autres typologies - SYNTHESE DES PRESTATIONS (PAR LOGEMENT)
A4: Mobilier, équipements et fournitures | J4: Les données à remplir
A5: Type de prestation | B5: Coût TTC | C5: Durée d'amortissement (nombre de mois) | D5: Coût mensuel TTC sur la durée d'amortissement | E5: Montant facturé | F5: Obligatoire ou Facultatif | G5: Observations
D6: =IFERROR(B6/C6,0) -> 0
D7: =IFERROR(B7/C7,0) -> 0
D8: =IFERROR(B8/C8,0) -> 0
D9: =IFERROR(B9/C9,0) -> 0
D10: =IFERROR(B10/C10,0) -> 0
D11: =IFERROR(B11/C11,0) -> 0
D12: =IFERROR(B12/C12,0) -> 0
D13: =IFERROR(B13/C13,0) -> 0
D14: =IFERROR(B14/C14,0) -> 0
D15: =IFERROR(B15/C15,0) -> 0
A16: TOTAL | B16: =SUM(B6:B15) -> 0 | D16: =SUM(D6:D15) -> 0 | E16: =SUM(E6:E15) -> 0
A18: Autres prestations
A19: Type de prestation | B19: Coût TTC mensuel | C19: Montant facturé | D19: Périodicité | E19: Obligatoire ou Facultatif | F19: Observations
A31: Total prestations | B31: =SUM(B20:B30) -> 0 | C31: =SUM(C20:C30) -> 0
A33: SYNTHESE | B33: Total mobilier, équipement et fourniture | C33: Total autres prestations | D33: Total
A34: Coût réel / mois | B34: =D16 -> 0 | C34: =B31 -> 0 | D34: =B34+C34 -> 0
A35: Montant facturé / mois | B35: =E16 -> 0 | C35: =C31 -> 0 | D35: =B35+C35 -> 0
